Workbook

Sheet 納付書情報入力フォーム
B2: ＜納付書情報入力フォーム＞
B3: ・黄色セル部分を入力してください。青色セル部分はリストから選択してください。
B4: ・入力した内容が「納付書」のシートに自動反映されますので、印刷してご使用ください。
B6: 【法人情報】
B7: 郵便番号 | D7: -
B8: 住所
B9: 法人名
B10: 法人番号 | G10: ←国税庁指定の13桁の法人番号を入力してください。
B11: 小浜市の課税番号 （管理番号） | C11: =IFERROR(VLOOKUP(C10,管理番号!$A:$B,2,FALSE())," ") | G11: ←法人番号を入力すると自動表示されます。 ※自動表示されない場合は、小浜市役所税務課（0770-64-6004）までご連絡ください。
B13: 【申告情報】
B14: 納付する（申告）年度 | C14: 令和 | F14: 年度 | G14: ←実際に申告をした年月日の属する年度を入力してください。
B15: 申告区分 | G15: ←リストから選択してください。
B16: 申告区分［その他］の詳細 | G16: ←申告区分で［その他］を選択した場合のみ入力してください。
B17: 事業年度 | C17: 始期 | G17: ←"Hyy.mm.dd"形式で入力してください。 （H：平成・R：令和、yy：年、mm：月、dd：日）
B18: （算定期間） | C18: 終期
B20: 【納付情報】
B21: 法人税割額 | G21: 円
B22: 均等割額 | G22: 円
B23: 延滞金 | G23: 円
B24: 督促手数料 | G24: 円
B25: 合計額 | C25: =SUM(C21:F24) -> 0 | G25: 円
B26: 納期限 | H26: ←"Hyy.mm.dd"形式で入力してください。

Sheet 納付書（入力フォームから必要事項入力後に印刷）
B1: 市町村コード | AH1: 市町村コード | BN1: 市町村コード
B2: 182044 | AH2: 182044 | BN2: 182044
B3: 福井県 | I3: 法人市民税領収証書 | AH3: 福井県 | AO3: 法人市民税納付書 | BN3: 福井県 | BU3: 法人市民税領収済通知書
B4: 小浜市 | AH4: 小浜市 | BN4: 小浜市
B5: 口 座 番 号 | O5: 加 入 者 | AH5: 口 座 番 号 | AU5: 加 入 者 | BN5: 口 座 番 号 | CA5: 加 入 者
B6: 0147-420-0072079 | O6: 小浜市会計管理者 | AH6: 0147-420-0072079 | AU6: 小浜市会計管理者 | BN6: 0147-420-0072079 | CA6: 小浜市会計管理者
C7: 所在地及び法人名 | O7: （法人課税信託に係る受託法人の各事業年度の法人税額を課税標準とする市民税の法人税割については、法人課税信託の名称を併記） | AI7: 所在地及び法人名 | AU7: （法人課税信託に係る受託法人の各事業年度の法人税額を課税標準とする市民税の法人税割については、法人課税信託の名称を併記） | BO7: 所在地及び法人名 | CA7: （法人課税信託に係る受託法人の各事業年度の法人税額を課税標準とする市民税の法人税割については、法人課税信託の名称を併記）
C9: 〒 | E9: =納付書情報入力フォーム!C7 -> 0 | H9: - | I9: =納付書情報入力フォーム!E7 -> 0 | AI9: 〒 | AK9: =IF(E9="","",E9) | AN9: - | AO9: =IF(I9="","",I9) | BO9: 〒 | BQ9: =IF(AK9="","",AK9) | BT9: - | BU9: =IF(AO9="","",AO9)
C10: =納付書情報入力フォーム!C8 -> 0 | AI10: =IF(C10="","",C10) | BO10: =IF(C10="","",C10)
C13: =納付書情報入力フォーム!C9 -> 0 | AI13: =IF(C13="","",C13) | BO13: =IF(C13="","",C13)
AC15: 御中 | BI15: 御中 | CO15: 御中
B17: 年 度 | F17: 法 人 番 号 | V17: 管 理 番 号 | AH17: 年 度 | AL17: 法 人 番 号 | BB17: 管 理 番 号 | BN17: 年 度 | BR17: 法 人 番 号 | CH17: 管 理 番 号
B18: 令 | D18: =納付書情報入力フォーム!D14 -> 0 | F18: =納付書情報入力フォーム!C10 -> 0 | V18: =納付書情報入力フォーム!C11 | AH18: =B18 -> 令 | AJ18: =IF(D18="","",D18) | AL18: =IF(F18="","",F18) | BB18: =IF(V18="","",V18) | BN18: =B18 -> 令 | BP18: =IF(D18="","",D18) | BR18: =IF(AL18="","",AL18) | CH18: =IF(V18="","",V18)
B20: 事業年度（算定期間） | V20: 申 告 区 分 | AH20: 事業年度（算定期間） | BB20: 申 告 区 分 | BN20: 事業年度（算定期間） | CH20: 申 告 区 分
B21: =納付書情報入力フォーム!D17 -> 0 | J21: から | L21: =納付書情報入力フォーム!D18 -> 0 | T21: まで | V21: =納付書情報入力フォーム!C15 -> 0 | AA21: =納付書情報入力フォーム!C16 -> 0 | AH21: =IF(B21="","",B21) | AP21: から | AR21: =IF(L21="","",L21) | AZ21: まで | BB21: =IF(V21="","",V21) | BG21: =IF(AA21="","",AA21) | BN21: =IF(B21="","",B21) | BV21: から | BX21: =IF(L21="","",L21) | CF21: まで | CH21: =IF(V21="","",V21) | CM21: =IF(AA21="","",AA21)
B23: 法人税割額 | H23: 01 | J23: 百 | L23: 十 | N23: 億 | P23: 千 | R23: 百 | T23: 十 | V23: 万 | X23: 千 | Z23: 百 | AB23: 十 | AD23: 円 | AH23: 法人税割額 | AN23: 01 | AP23: 百 | AR23: 十 | AT23: 億 | AV23: 千 | AX23: 百 | AZ23: 十 | BB23: 万 | BD23: 千 | BF23: 百 | BH23: 十 | BJ23: 円 | BN23: 法人税割額 | BT23: 01 | BV23: 百 | BX23: 十 | BZ23: 億 | CB23: 千 | CD23: 百 | CF23: 十 | CH23: 万 | CJ23: 千 | CL23: 百 | CN23: 十 | CP23: 円
J24: =MID(RIGHT(REPT(" ",13)&納付書情報入力フォーム!$C21,13),COLUMN(納付書情報入力フォーム!C21),1) | L24: =MID(RIGHT(REPT(" ",12)&納付書情報入力フォーム!$C21,12),COLUMN(納付書情報入力フォーム!C21),1) | N24: =MID(RIGHT(REPT(" ",11)&納付書情報入力フォーム!$C21,11),COLUMN(納付書情報入力フォーム!C21),1) | P24: =MID(RIGHT(REPT(" ",10)&納付書情報入力フォーム!$C21,10),COLUMN(納付書情報入力フォーム!C21),1) | R24: =MID(RIGHT(REPT(" ",9)&納付書情報入力フォーム!$C21,9),COLUMN(納付書情報入力フォーム!C21),1) | T24: =MID(RIGHT(REPT(" ",8)&納付書情報入力フォーム!$C21,8),COLUMN(納付書情報入力フォーム!C21),1) | V24: =MID(RIGHT(REPT(" ",7)&納付書情報入力フォーム!$C21,7),COLUMN(納付書情報入力フォーム!C21),1) | X24: =MID(RIGHT(REPT(" ",6)&納付書情報入力フォーム!$C21,6),COLUMN(納付書情報入力フォーム!C21),1) | Z24: =MID(RIGHT(REPT(" ",5)&納付書情報入力フォーム!$C21,5),COLUMN(納付書情報入力フォーム!C21),1) | AB24: =MID(RIGHT(REPT(" ",4)&納付書情報入力フォーム!$C21,4),COLUMN(納付書情報入力フォーム!C21),1) | AD24: =MID(RIGHT(REPT(" ",3)&納付書情報入力フォーム!$C21,3),COLUMN(納付書情報入力フォーム!C21),1) | AP24: =IF($J$24="","",$J$24) | AR24: =IF($L$24="","",$L$24) | AT24: =IF($N$24="","",$N$24) | AV24: =IF($P$24="","",$P$24) | AX24: =IF($R$24="","",$R$24) | AZ24: =IF($T$24="","",$T$24) | BB24: =IF($V$24="","",$V$24) | BD24: =IF($X$24="","",$X$24) | BF24: =IF($Z$24="","",$Z$24) | BH24: =IF($AB$24="","",$AB$24) | BJ24: =IF($AD$24="","",$AD$24) | BV24: =IF($J$24="","",$J$24) | BX24: =IF($L$24="","",$L$24) | BZ24: =IF($N$24="","",$N$24) | CB24: =IF($P$24="","",$P$24) | CD24: =IF($R$24="","",$R$24) | CF24: =IF($T$24="","",$T$24) | CH24: =IF($V$24="","",$V$24) | CJ24: =IF($X$24="","",$X$24) | CL24: =IF($Z$24="","",$Z$24) | CN24: =IF($AB$24="","",$AB$24) | CP24: =IF($AD$24="","",$AD$24)
B26: 均等割額 | H26: 02 | R26: =MID(RIGHT(REPT(" ",9)&納付書情報入力フォーム!$C22,9),COLUMN(納付書情報入力フォーム!C22),1) | T26: =MID(RIGHT(REPT(" ",8)&納付書情報入力フォーム!$C22,8),COLUMN(納付書情報入力フォーム!C22),1) | V26: =MID(RIGHT(REPT(" ",7)&納付書情報入力フォーム!$C22,7),COLUMN(納付書情報入力フォーム!C22),1) | X26: =MID(RIGHT(REPT(" ",6)&納付書情報入力フォーム!$C22,6),COLUMN(納付書情報入力フォーム!C22),1) | Z26: =MID(RIGHT(REPT(" ",5)&納付書情報入力フォーム!$C22,5),COLUMN(納付書情報入力フォーム!C22),1) | AB26: =MID(RIGHT(REPT(" ",4)&納付書情報入力フォーム!$C22,4),COLUMN(納付書情報入力フォーム!C22),1) | AD26: =MID(RIGHT(REPT(" ",3)&納付書情報入力フォーム!$C22,3),COLUMN(納付書情報入力フォーム!C22),1) | AH26: 均等割額 | AN26: 02 | AX26: =IF($R$26="","",$R$26) | AZ26: =IF($T$26="","",$T$26) | BB26: =IF($V$26="","",$V$26) | BD26: =IF($X$26="","",$X$26) | BF26: =IF($Z$26="","",$Z$26) | BH26: =IF($AB$26="","",$AB$26) | BJ26: =IF($AD$26="","",$AD$26) | BN26: 均等割額 | BT26: 02 | CD26: =IF($R$26="","",$R$26) | CF26: =IF($T$26="","",$T$26) | CH26: =IF($V$26="","",$V$26) | CJ26: =IF($X$26="","",$X$26) | CL26: =IF($Z$26="","",$Z$26) | CN26: =IF($AB$26="","",$AB$26) | CP26: =IF($AD$26="","",$AD$26)
B28: 延滞金 | H28: 03 | J28: =MID(RIGHT(REPT(" ",13)&納付書情報入力フォーム!$C23,13),COLUMN(納付書情報入力フォーム!C23),1) | L28: =MID(RIGHT(REPT(" ",12)&納付書情報入力フォーム!$C23,12),COLUMN(納付書情報入力フォーム!C23),1) | N28: =MID(RIGHT(REPT(" ",11)&納付書情報入力フォーム!$C23,11),COLUMN(納付書情報入力フォーム!C23),1) | P28: =MID(RIGHT(REPT(" ",10)&納付書情報入力フォーム!$C23,10),COLUMN(納付書情報入力フォーム!C23),1) | R28: =MID(RIGHT(REPT(" ",9)&納付書情報入力フォーム!$C23,9),COLUMN(納付書情報入力フォーム!C23),1) | T28: =MID(RIGHT(REPT(" ",8)&納付書情報入力フォーム!$C23,8),COLUMN(納付書情報入力フォーム!C23),1) | V28: =MID(RIGHT(REPT(" ",7)&納付書情報入力フォーム!$C23,7),COLUMN(納付書情報入力フォーム!C23),1) | X28: =MID(RIGHT(REPT(" ",6)&納付書情報入力フォーム!$C23,6),COLUMN(納付書情報入力フォーム!C23),1) | Z28: =MID(RIGHT(REPT(" ",5)&納付書情報入力フォーム!$C23,5),COLUMN(納付書情報入力フォーム!C23),1) | AB28: =MID(RIGHT(REPT(" ",4)&納付書情報入力フォーム!$C23,4),COLUMN(納付書情報入力フォーム!C23),1) | AD28: =MID(RIGHT(REPT(" ",3)&納付書情報入力フォーム!$C23,3),COLUMN(納付書情報入力フォーム!C23),1) | AH28: 延滞金 | AN28: 03 | AP28: =IF($J$28="","",$J$28) | AR28: =IF($L$28="","",$L$28) | AT28: =IF($N$28="","",$N$28) | AV28: =IF($P$28="","",$P$28) | AX28: =IF($R$28="","",$R$28) | AZ28: =IF($T$28="","",$T$28) | BB28: =IF($V$28="","",$V$28) | BD28: =IF($X$28="","",$X$28) | BF28: =IF($Z$28="","",$Z$28) | BH28: =IF($AB$28="","",$AB$28) | BJ28: =IF($AD$28="","",$AD$28) | BN28: 延滞金 | BT28: 03 | BV28: =IF($J$28="","",$J$28) | BX28: =IF($L$28="","",$L$28) | BZ28: =IF($N$28="","",$N$28) | CB28: =IF($P$28="","",$P$28) | CD28: =IF($R$28="","",$R$28) | CF28: =IF($T$28="","",$T$28) | CH28: =IF($V$28="","",$V$28) | CJ28: =IF($X$28="","",$X$28) | CL28: =IF($Z$28="","",$Z$28) | CN28: =IF($AB$28="","",$AB$28) | CP28: =IF($AD$28="","",$AD$28)
B30: 督促手数料 | H30: 04 | Z30: =MID(RIGHT(REPT(" ",5)&納付書情報入力フォーム!$C24,5),COLUMN(納付書情報入力フォーム!C24),1) | AB30: =MID(RIGHT(REPT(" ",4)&納付書情報入力フォーム!$C24,4),COLUMN(納付書情報入力フォーム!C24),1) | AD30: =MID(RIGHT(REPT(" ",3)&納付書情報入力フォーム!$C24,3),COLUMN(納付書情報入力フォーム!C24),1) | AH30: 督促手数料 | AN30: 04 | AP30: =IF($J$30="","",$J$30) | AR30: =IF($L$30="","",$L$30) | AT30: =IF($N$30="","",$N$30) | AV30: =IF($P$30="","",$P$30) | AX30: =IF($R$30="","",$R$30) | AZ30: =IF($T$30="","",$T$30) | BB30: =IF($V$30="","",$V$30) | BD30: =IF($X$30="","",$X$30) | BF30: =IF($Z$30="","",$Z$30) | BH30: =IF($AB$30="","",$AB$30) | BJ30: =IF($AD$30="","",$AD$30) | BN30: 督促手数料 | BT30: 04 | BV30: =IF($J$30="","",$J$30) | BX30: =IF($L$30="","",$L$30) | BZ30: =IF($N$30="","",$N$30) | CB30: =IF($P$30="","",$P$30) | CD30: =IF($R$30="","",$R$30) | CF30: =IF($T$30="","",$T$30) | CH30: =IF($V$30="","",$V$30) | CJ30: =IF($X$30="","",$X$30) | CL30: =IF($Z$30="","",$Z$30) | CN30: =IF($AB$30="","",$AB$30) | CP30: =IF($AD$30="","",$AD$30)
B32: 合計額 | H32: 05 | J32: =MID(RIGHT(REPT(" ",13)&納付書情報入力フォーム!$C25,13),COLUMN(納付書情報入力フォーム!C25),1) | L32: =MID(RIGHT(REPT(" ",12)&納付書情報入力フォーム!$C25,12),COLUMN(納付書情報入力フォーム!C25),1) | N32: =MID(RIGHT(REPT(" ",11)&納付書情報入力フォーム!$C25,11),COLUMN(納付書情報入力フォーム!C25),1) | P32: =MID(RIGHT(REPT(" ",10)&納付書情報入力フォーム!$C25,10),COLUMN(納付書情報入力フォーム!C25),1) | R32: =MID(RIGHT(REPT(" ",9)&納付書情報入力フォーム!$C25,9),COLUMN(納付書情報入力フォーム!C25),1) | T32: =MID(RIGHT(REPT(" ",8)&納付書情報入力フォーム!$C25,8),COLUMN(納付書情報入力フォーム!C25),1) | V32: =MID(RIGHT(REPT(" ",7)&納付書情報入力フォーム!$C25,7),COLUMN(納付書情報入力フォーム!C25),1) | X32: =MID(RIGHT(REPT(" ",6)&納付書情報入力フォーム!$C25,6),COLUMN(納付書情報入力フォーム!C25),1) | Z32: =MID(RIGHT(REPT(" ",5)&納付書情報入力フォーム!$C25,5),COLUMN(納付書情報入力フォーム!C25),1) | AB32: =MID(RIGHT(REPT(" ",4)&納付書情報入力フォーム!$C25,4),COLUMN(納付書情報入力フォーム!C25),1) | AD32: =MID(RIGHT(REPT(" ",3)&納付書情報入力フォーム!$C25,3),COLUMN(納付書情報入力フォーム!C25),1) -> 0 | AH32: 合計額 | AN32: 05 | AP32: =IF($J$32="","",$J$32) | AR32: =IF($L$32="","",$L$32) | AT32: =IF($N$32="","",$N$32) | AV32: =IF($P$32="","",$P$32) | AX32: =IF($R$32="","",$R$32) | AZ32: =IF($T$32="","",$T$32) | BB32: =IF($V$32="","",$V$32) | BD32: =IF($X$32="","",$X$32) | BF32: =IF($Z$32="","",$Z$32) | BH32: =IF($AB$32="","",$AB$32) | BJ32: =IF($AD$32="","",$AD$32) -> 0 | BN32: 合計額 | BT32: 05 | BV32: =IF($J$32="","",$J$32) | BX32: =IF($L$32="","",$L$32) | BZ32: =IF($N$32="","",$N$32) | CB32: =IF($P$32="","",$P$32) | CD32: =IF($R$32="","",$R$32) | CF32: =IF($T$32="","",$T$32) | CH32: =IF($V$32="","",$V$32) | CJ32: =IF($X$32="","",$X$32) | CL32: =IF($Z$32="","",$Z$32) | CN32: =IF($AB$32="","",$AB$32) | CP32: =IF($AD$32="","",$AD$32) -> 0
B34: 納期限 | G34: =納付書情報入力フォーム!C26 -> 0 | S34: 領収日付印 | AH34: 納期限 | AM34: =IF(G34="","",G34) | AY34: 領収日付印 | BN34: 納期限 | BS34: =IF(AM34="","",AM34) | CE34: 領収日付印
B35: 上記のとおり領収しました。 | AH35: 日 計 | AM35: 口 | BN35: 指定金融 機 関 名 (取りまとめ店) | BS35: ㈱福井銀行 小浜支店
R36: （納税者保管） | AM36: 円
B37: ◎ | D37: この納付書は、３枚１組となっていますので、切り離さずに提出してください。 | BN37: 取りまとめ局
AH38: 上記のとおり納付します。 | BN38: 上記のとおり通知します。
AX39: （金融機関） | CD39: （小浜市保管）
B41: 【納付場所】
D42: 小浜市指定金融機関および小浜市収納代理金融機関…小浜市にある下記の金融機関の本店、支店
D43: ・福井銀行
D44: ・小浜信用金庫
D45: ・福井県農業協同組合
D46: ・北陸労働金庫
D47: ・東日本信用漁業協同組合連合会
B49: 中間 | G49: =J24*10000000000+L24*1000000000+N24*100000000+P24*10000000+R24*1000000+T24*100000+V24*10000+X24*1000+Z24*100 -> #VALUE!
B50: 予定 | G50: =J25*10000000000+L25*1000000000+N25*100000000+P25*10000000+R25*1000000+T25*100000+V25*10000+X25*1000+Z25*100 -> 0
B51: 確定 | G51: =J26*10000000000+L26*1000000000+N26*100000000+P26*10000000+R26*1000000+T26*100000+V26*10000+X26*1000+Z26*100 -> #VALUE!
B52: 修正 | G52: =J27*10000000000+L27*1000000000+N27*100000000+P27*10000000+R27*1000000+T27*100000+V27*10000+X27*1000+Z27*100 -> 0
B53: 更正 | G53: =J28*10000000000+L28*1000000000+N28*100000000+P28*10000000+R28*1000000+T28*100000+V28*10000+X28*1000+Z28*100+AB28*10+AD28 -> #VALUE!
B54: 決定 | G54: =J29*10000000000+L29*1000000000+N29*100000000+P29*10000000+R29*1000000+T29*100000+V29*10000+X29*1000+Z29*100 -> 0
B55: その他 | G55: =J30*10000000000+L30*1000000000+N30*100000000+P30*10000000+R30*1000000+T30*100000+V30*10000+X30*1000+Z30*100+AB30*10+AD30 -> #VALUE!
G56: =SUM(G49:P55) -> #VALUE!

Sheet 納付書（直接入力用）
B1: 市町村コード | AH1: 市町村コード | BN1: 市町村コード
B2: 182044 | AH2: 182044 | BN2: 182044
B3: 福井県 | I3: 法人市民税領収証書 | AH3: 福井県 | AO3: 法人市民税納付書 | BN3: 福井県 | BU3: 法人市民税領収済通知書
B4: 小浜市 | AH4: 小浜市 | BN4: 小浜市
B5: 口 座 番 号 | O5: 加 入 者 | AH5: 口 座 番 号 | AU5: 加 入 者 | BN5: 口 座 番 号 | CA5: 加 入 者
B6: 0147-420-0072079 | O6: 小浜市会計管理者 | AH6: 0147-420-0072079 | AU6: 小浜市会計管理者 | BN6: 0147-420-0072079 | CA6: 小浜市会計管理者
C7: 所在地及び法人名 | O7: （法人課税信託に係る受託法人の各事業年度の法人税額を課税標準とする市民税の法人税割については、法人課税信託の名称を併記） | AI7: 所在地及び法人名 | AU7: （法人課税信託に係る受託法人の各事業年度の法人税額を課税標準とする市民税の法人税割については、法人課税信託の名称を併記） | BO7: 所在地及び法人名 | CA7: （法人課税信託に係る受託法人の各事業年度の法人税額を課税標準とする市民税の法人税割については、法人課税信託の名称を併記）
C9: 〒 | AI9: 〒 | AK9: =IF(E9="","",E9) | BO9: 〒 | BQ9: =IF(E9="","",E9)
AI10: =IF(C10="","",C10) | BO10: =IF(C10="","",C10)
AI13: =IF(C13="","",C13) | BO13: =IF(C13="","",C13)
AC15: 御中 | BI15: 御中 | CO15: 御中
B17: 年 度 | F17: ※ 処 理 事 項 | V17: 管 理 番 号 | AH17: 年 度 | AL17: ※ 処 理 事 項 | BB17: 管 理 番 号 | BN17: 年 度 | BR17: ※ 処 理 事 項 | CH17: 管 理 番 号
B18: 令 | AH18: =B18 -> 令 | AJ18: =IF(D18="","",D18) | AL18: =IF(F18="","",F18) | BB18: =IF(V18="","",V18) | BN18: =B18 -> 令 | BP18: =IF(D18="","",D18) | BR18: =IF(AL18="","",AL18) | CH18: =IF(V18="","",V18)
B20: 事業年度（算定期間） | R20: 申 告 区 分 | AH20: 事業年度（算定期間） | AX20: 申 告 区 分 | BN20: 事業年度（算定期間） | CD20: 申 告 区 分
H21: から | P21: まで | S21: 確定 | AH21: =IF($B$21="","",$B$21) | AJ21: =IF($D$21="","",$D$21) | AL21: =IF($F$21="","",$F$21) | AN21: から | AP21: =IF($J$21="","",$J$21) | AR21: =IF($L$21="","",$L$21) | AT21: =IF($N$21="","",$N$21) | AV21: まで | AY21: =IF($S$21="","",$S$21) -> 確定 | BG21: =IF($AA$21="","",$AA$21) | BN21: =IF($B$21="","",$B$21) | BP21: =IF($D$21="","",$D$21) | BR21: =IF($F$21="","",$F$21) | BT21: から | BV21: =IF($J$21="","",$J$21) | BX21: =IF($L$21="","",$L$21) | BZ21: =IF($N$21="","",$N$21) | CB21: まで | CE21: =IF($S$21="","",$S$21) -> 確定 | CM21: =IF($AA$21="","",$AA$21)
C22: ･ | E22: ･ | K22: ･ | M22: ･ | AI22: ･ | AK22: ･ | AQ22: ･ | AS22: ･ | BO22: ･ | BQ22: ･ | BW22: ･ | BY22: ･
B23: 法人税割額 | H23: 01 | J23: 百 | L23: 十 | N23: 億 | P23: 千 | R23: 百 | T23: 十 | V23: 万 | X23: 千 | Z23: 百 | AB23: 十 | AD23: 円 | AH23: 法人税割額 | AN23: 01 | AP23: 百 | AR23: 十 | AT23: 億 | AV23: 千 | AX23: 百 | AZ23: 十 | BB23: 万 | BD23: 千 | BF23: 百 | BH23: 十 | BJ23: 円 | BN23: 法人税割額 | BT23: 01 | BV23: 百 | BX23: 十 | BZ23: 億 | CB23: 千 | CD23: 百 | CF23: 十 | CH23: 万 | CJ23: 千 | CL23: 百 | CN23: 十 | CP23: 円
AB24: 0 | AD24: 0 | AP24: =IF($J$24="","",$J$24) | AR24: =IF($L$24="","",$L$24) | AT24: =IF($N$24="","",$N$24) | AV24: =IF($P$24="","",$P$24) | AX24: =IF($R$24="","",$R$24) | AZ24: =IF($T$24="","",$T$24) | BB24: =IF($V$24="","",$V$24) | BD24: =IF($X$24="","",$X$24) | BF24: =IF($Z$24="","",$Z$24) | BH24: 0 | BJ24: 0 | BV24: =IF($J$24="","",$J$24) | BX24: =IF($L$24="","",$L$24) | BZ24: =IF($N$24="","",$N$24) | CB24: =IF($P$24="","",$P$24) | CD24: =IF($R$24="","",$R$24) | CF24: =IF($T$24="","",$T$24) | CH24: =IF($V$24="","",$V$24) | CJ24: =IF($X$24="","",$X$24) | CL24: =IF($Z$24="","",$Z$24) | CN24: 0 | CP24: 0
B26: 均等割額 | H26: 02 | AB26: 0 | AD26: 0 | AH26: 均等割額 | AN26: 02 | AX26: =IF($R$26="","",$R$26) | AZ26: =IF($T$26="","",$T$26) | BB26: =IF($V$26="","",$V$26) | BD26: =IF($X$26="","",$X$26) | BF26: =IF($Z$26="","",$Z$26) | BH26: 0 | BJ26: 0 | BN26: 均等割額 | BT26: 02 | CD26: =IF($R$26="","",$R$26) | CF26: =IF($T$26="","",$T$26) | CH26: =IF($V$26="","",$V$26) | CJ26: =IF($X$26="","",$X$26) | CL26: =IF($Z$26="","",$Z$26) | CN26: 0 | CP26: 0
B28: 延滞金 | H28: 03 | AH28: 延滞金 | AN28: 03 | AP28: =IF($J$28="","",$J$28) | AR28: =IF($L$28="","",$L$28) | AT28: =IF($N$28="","",$N$28) | AV28: =IF($P$28="","",$P$28) | AX28: =IF($R$28="","",$R$28) | AZ28: =IF($T$28="","",$T$28) | BB28: =IF($V$28="","",$V$28) | BD28: =IF($X$28="","",$X$28) | BF28: =IF($Z$28="","",$Z$28) | BH28: =IF($AB$28="","",$AB$28) | BJ28: =IF($AD$28="","",$AD$28) | BN28: 延滞金 | BT28: 03 | BV28: =IF($J$28="","",$J$28) | BX28: =IF($L$28="","",$L$28) | BZ28: =IF($N$28="","",$N$28) | CB28: =IF($P$28="","",$P$28) | CD28: =IF($R$28="","",$R$28) | CF28: =IF($T$28="","",$T$28) | CH28: =IF($V$28="","",$V$28) | CJ28: =IF($X$28="","",$X$28) | CL28: =IF($Z$28="","",$Z$28) | CN28: =IF($AB$28="","",$AB$28) | CP28: =IF($AD$28="","",$AD$28)
B30: 督促手数料 | H30: 04 | AH30: 督促手数料 | AN30: 04 | AP30: =IF($J$30="","",$J$30) | AR30: =IF($L$30="","",$L$30) | AT30: =IF($N$30="","",$N$30) | AV30: =IF($P$30="","",$P$30) | AX30: =IF($R$30="","",$R$30) | AZ30: =IF($T$30="","",$T$30) | BB30: =IF($V$30="","",$V$30) | BD30: =IF($X$30="","",$X$30) | BF30: =IF($Z$30="","",$Z$30) | BH30: =IF($AB$30="","",$AB$30) | BJ30: =IF($AD$30="","",$AD$30) | BN30: 督促手数料 | BT30: 04 | BV30: =IF($J$30="","",$J$30) | BX30: =IF($L$30="","",$L$30) | BZ30: =IF($N$30="","",$N$30) | CB30: =IF($P$30="","",$P$30) | CD30: =IF($R$30="","",$R$30) | CF30: =IF($T$30="","",$T$30) | CH30: =IF($V$30="","",$V$30) | CJ30: =IF($X$30="","",$X$30) | CL30: =IF($Z$30="","",$Z$30) | CN30: =IF($AB$30="","",$AB$30) | CP30: =IF($AD$30="","",$AD$30)
B32: 合計額 | H32: 05 | J32: =IF(LEN(G56)=11,MID(G56,1,1),"") | L32: =IF(LEN($G$56)>9,MID($G$56,LEN($G$56)-9,1),"") | N32: =IF(LEN($G$56)>8,MID($G$56,LEN($G$56)-8,1),"") | P32: =IF(LEN($G$56)>7,MID($G$56,LEN($G$56)-7,1),"") | R32: =IF(LEN($G$56)>6,MID($G$56,LEN($G$56)-6,1),"") | T32: =IF(LEN($G$56)>5,MID($G$56,LEN($G$56)-5,1),"") | V32: =IF(LEN($G$56)>4,MID($G$56,LEN($G$56)-4,1),"") | X32: =IF(LEN($G$56)>3,MID($G$56,LEN($G$56)-3,1),"") | Z32: =IF(LEN($G$56)>2,MID($G$56,LEN($G$56)-2,1),"") | AB32: =IF(LEN($G$56)>1,MID($G$56,LEN($G$56)-1,1),"") | AD32: =IF(LEN($G$56)>0,MID($G$56,LEN($G$56),1),"0") -> 0 | AH32: 合計額 | AN32: 05 | AP32: =IF($J$32="","",$J$32) | AR32: =IF($L$32="","",$L$32) | AT32: =IF($N$32="","",$N$32) | AV32: =IF($P$32="","",$P$32) | AX32: =IF($R$32="","",$R$32) | AZ32: =IF($T$32="","",$T$32) | BB32: =IF($V$32="","",$V$32) | BD32: =IF($X$32="","",$X$32) | BF32: =IF($Z$32="","",$Z$32) | BH32: =IF($AB$32="","",$AB$32) | BJ32: =IF($AD$32="","",$AD$32) -> 0 | BN32: 合計額 | BT32: 05 | BV32: =IF($J$32="","",$J$32) | BX32: =IF($L$32="","",$L$32) | BZ32: =IF($N$32="","",$N$32) | CB32: =IF($P$32="","",$P$32) | CD32: =IF($R$32="","",$R$32) | CF32: =IF($T$32="","",$T$32) | CH32: =IF($V$32="","",$V$32) | CJ32: =IF($X$32="","",$X$32) | CL32: =IF($Z$32="","",$Z$32) | CN32: =IF($AB$32="","",$AB$32) | CP32: =IF($AD$32="","",$AD$32) -> 0
B34: 納期限 | G34: 令和 | L34: 年 | O34: 月 | R34: 日 | S34: 領収日付印 | AH34: 納期限 | AM34: =G34 -> 令和 | AP34: =IF(J34="","",J34) | AR34: 年 | AS34: =IF(M34="","",M34) | AU34: 月 | AV34: =IF(P34="","",P34) | AX34: 日 | AY34: 領収日付印 | BN34: 納期限 | BS34: =G34 -> 令和 | BV34: =IF(J34="","",J34) | BX34: 年 | BY34: =IF(M34="","",M34) | CA34: 月 | CB34: =IF(P34="","",P34) | CD34: 日 | CE34: 領収日付印
B35: 上記のとおり領収しました。 | AH35: 日 計 | AM35: 口 | BN35: 指定金融 機 関 名 (取りまとめ店) | BS35: ㈱福井銀行 小浜支店
R36: （納税者保管） | AM36: 円
B37: ◎ | D37: この納付書は、３枚１組となっていますので、切り離さずに提出してください。 | BN37: 取りまとめ局
AH38: 上記のとおり納付します。 | BN38: 上記のとおり通知します。
AX39: （金融機関保管） | CD39: （小浜市保管）
B41: 【納付場所】
D42: 小浜市指定金融機関および小浜市収納代理金融機関…小浜市にある下記の金融機関の本店、支店
D43: ・福井銀行
D44: ・小浜信用金庫
D45: ・福井県農業協同組合
D46: ・北陸労働金庫
D47: ・東日本信用漁業協同組合連合会
B49: 中間 | G49: =J24*10000000000+L24*1000000000+N24*100000000+P24*10000000+R24*1000000+T24*100000+V24*10000+X24*1000+Z24*100 -> 0
B50: 予定 | G50: =J25*10000000000+L25*1000000000+N25*100000000+P25*10000000+R25*1000000+T25*100000+V25*10000+X25*1000+Z25*100 -> 0
B51: 確定 | G51: =J26*10000000000+L26*1000000000+N26*100000000+P26*10000000+R26*1000000+T26*100000+V26*10000+X26*1000+Z26*100 -> 0
B52: 修正 | G52: =J27*10000000000+L27*1000000000+N27*100000000+P27*10000000+R27*1000000+T27*100000+V27*10000+X27*1000+Z27*100 -> 0
B53: 更正 | G53: =J28*10000000000+L28*1000000000+N28*100000000+P28*10000000+R28*1000000+T28*100000+V28*10000+X28*1000+Z28*100+AB28*10+AD28 -> 0
B54: 決定 | G54: =J29*10000000000+L29*1000000000+N29*100000000+P29*10000000+R29*1000000+T29*100000+V29*10000+X29*1000+Z29*100 -> 0
B55: その他 | G55: =J30*10000000000+L30*1000000000+N30*100000000+P30*10000000+R30*1000000+T30*100000+V30*10000+X30*1000+Z30*100+AB30*10+AD30 -> 0
G56: =SUM(G49:P55) -> 0

Sheet 管理番号
A1: 法人番号 | B1: 管理番号 | C1: 漢字法人名称 | D1: カナ法人名称１(ソート用)
A2: 2700150050549 | B2: 9048511 | C2: 谷田部区 梅千代 | D2: ﾔﾀﾍｸ
A3: 3210002013868 | B3: 9135308 | C3: 有限会社 花福 | D3: ﾊﾅﾌｸ
A4: 8210005009669 | B4: 9272313 | C4: 医療法人 三愛会 | D4: ｻﾝｱｲｶｲ
A5: 9210003001445 | B5: 9315551 | C5: 合同会社 セイザ | D5: ｾｲｻ
A6: 9210001018375 | B6: 9310134 | C6: 株式会社 百役 | D6: ﾋﾔｸﾔｸ
A7: 7210005008449 | B7: 9017232 | C7: 阿納尻林業部会 | D7: ｱﾉｼﾘﾘﾝｷﾖｳﾌ
A8: 4210003000708 | B8: 9227610 | C8: 合同会社 シマダ農園 | D8: ｼﾏﾀﾉｳｴﾝ
A9: 4130001043964 | B9: 9245839 | C9: 株式会社 ワイズグループ | D9: ﾜｲｽｸﾙ-ﾌ
A10: 7210001016810 | B10: 9273522 | C10: 神明興業 株式会社 | D10: ｼﾝﾒｲｺｳｷﾖｳ
B11: 9309829 | C11: 合同会社 森乃泉 | D11: ﾓﾘﾉｲｽﾐ
A12: 6210005008441 | B12: 9149872 | C12: （医）田中整形外科医院 | D12: ﾀﾅｶｾｲｹｲｹｶｲｲ
A13: 5210003000673 | B13: 9003355 | C13: 合資会社 中井萬治商店 | D13: ﾅｶｲﾏﾝｼｼﾖｳﾃﾝ
A14: 2210001017037 | B14: 9280707 | C14: 株式会社 ＯＫ運転代行 | D14: ｵ-ｹ-ｳﾝﾃﾝﾀｲｺ
A15: 4210002013990 | B15: 9044779 | C15: （有）𠮷岡小兵衛商店 | D15: ﾖｼｵｶｺﾍｲｼﾖｳﾃﾝ
A16: 1210002013655 | B16: 9109706 | C16: （有）今富食料品店 | D16: ｲﾏﾄﾐｼﾖｸﾘﾖｳﾋﾝ
A17: 7210002013690 | B17: 9111174 | C17: （有）岡本自動車整備工場 | D17: ｵｶﾓﾄｼﾄｳｼﾔｾ
A18: 3210002013942 | B18: 9155325 | C18: 有限会社 三国電気商会 | D18: ﾐｸﾆﾃﾝｷｼﾖｳｶｲ
A19: 2210002011063 | B19: 9247327 | C19: 有限会社 セブン | D19: ｾﾌﾝ
A20: 2120001144815 | B20: 9259082 | C20: 株式会社 ゴシック | D20: ｺｼﾂｸ
A21: 2210001016278 | B21: 9262890 | C21: 株式会社 栗原 | D21: ｸﾘﾊﾗ
A22: 9210001013459 | B22: 9276530 | C22: 株式会社 成社 | D22: ﾅﾙ-ｼﾔ
A23: 5210002014245 | B23: 9191542 | C23: （有）ベルア－ム | D23: ﾍﾙｱ-ﾑ
... A56: 3210005008626 | B56: 9003878 | C56: （宗）長源寺 | D56: ﾁﾖｳｹﾝｼ
B57: 9026266 | C57: 長英寺 | D57: ﾁﾖｳｴｲｼ
A58: 4210005008716 | B58: 9032096 | C58: （宗）明通寺 | D58: ﾐﾖｳﾂｳｼ
A59: 9210005008595 | B59: 9032789 | C59: （宗）神通寺 | D59: ｼﾝﾂｳｼ
A60: 7210005008655 | B60: 9040501 | C60: （宗）洞 源 寺 | D60: ﾄｳｹﾝｼ
A61: 1210005000667 | B61: 9133518 | C61: （学）福井県自動車学園 小浜自動車学校 | D61: ﾌｸｲｹﾝｼﾄｳｼﾔ
A62: 6120005015182 | B62: 9162313 | C62: 一般財団法人 関西電気保安協会 | D62: ｶﾝｻｲﾃﾝｷﾎｱﾝｷ
A63: 1210005000634 | B63: 9164651 | C63: 社会福祉法人 つぐみ福祉会 | D63: ﾂｸﾐﾌｸｼｶｲ
A64: 6210005007996 | B64: 9179577 | C64: 福井県農業 共済組合 | D64: ﾌｸｲｹﾝﾉｳｷﾖｳｷ
A65: 6210005008895 | B65: 9191798 | C65: 特定非営利活動法人 おたっしゃ会 | D65: ｵﾀﾂｼﾔｶｲ
A66: 8210005008927 | B66: 9224564 | C66: 特定非営利活動法人 ＷＡＣおばま | D66: ﾜﾂｸｵﾊﾏ
A67: 6210005000290 | B67: 9240349 | C67: 一般社団法人 福井県自􁜏用自動車協会 | D67: ﾌｸｲｹﾝｼｶﾖｳｼ
A68: 7210005008515 | B68: 9280855 | C68: 宗教法人 小浜神社 | D68: ｵﾊﾏｼﾝｼﾔ
A69: 5210005009812 | B69: 9290354 | C69: 一般社団法人 若狭おばま観光協会 | D69: ﾜｶｻｵﾊﾏｶﾝｺｳｷ
... A190: 6210001014014 | B190: 9142789 | C190: 株式会社 福谷建材 | D190: ﾌｸﾀﾆｹﾝｻｲ
B191: 9290338 | C191: 株式会社 丸浜 | D191: ﾏﾙﾊﾏ
A192: 1210001008094 | B192: 9198211 | C192: イワシタ物産 株式会社 濱の湯（濱亭） | D192: ｲﾜｼﾀﾌﾂｻﾝ
A193: 7210001014038 | B193: 9003461 | C193: 株式会社 ママーストアー | D193: ﾏﾏ-ｽﾄｱ-
A194: 7210001014070 | B194: 9043837 | C194: 若狭建設工業 株式会社 | D194: ﾜｶｻｹﾝｾﾂｺｳｷﾖ
A195: 8210001013914 | B195: 9180303 | C195: 株式会社 アオバ | D195: ｱｵﾊ
A196: 1210001014068 | B196: 9135286 | C196: 株式会社 若狭開発技術センター | D196: ﾜｶｻｶｲﾊﾂｷｼﾕ
A197: 8210001014037 | B197: 9013920 | C197: （株）マツ勘 | D197: ﾏﾂｶﾝ
A198: 4210002014270 | B198: 9197206 | C198: 株式会社 ふらむはぁと リハビリねっと | D198: ﾌﾗﾑﾊｱﾄﾘﾊﾋﾘﾈ
A199: 8210001014334 | B199: 9228098 | C199: 株式会社 まちづくり小浜 | D199: ﾏﾁﾂｸﾘｵﾊﾏ
A200: 3210001014041 | B200: 9121684 | C200: 株式会社 МＩＦＵＫＵ | D200: ﾐﾌｸ
A201: 8210001014053 | B201: 9108637 | C201: 山本電気工事（株） | D201: ﾔﾏﾓﾄﾃﾝｷｺｳｼ
A202: 8120001064652 | B202: 9158618 | C202: 三友興業 株式会社 | D202: ｻﾝﾕｳｺｳｷﾖｳ
A203: 3210001010619 | B203: 9178830 | C203: 大鉄建機 株式会社 | D203: ﾀｲﾃﾂｹﾝｷ
... A346: 8200001031520 | B346: 9257535 | C346: 株式会社 バロー | D346: ﾊﾛ-
B347: 9264949 | C347: 株式会社 光洋ショッププラス | D347: ｺｳﾖｳｼﾖﾂﾌﾌﾗ
A348: 9130001010935 | B348: 9143700 | C348: 進工業（株） | D348: ｽｽﾑｺｳｷﾖｳ
A349: 6120001056577 | B349: 9206388 | C349: 大鉄工業 株式会社 | D349: ﾀｲﾃﾂｺｳｷﾖｳ
A350: 8230001010570 | B350: 9224335 | C350: 三協テック 株式会社 | D350: ｻﾝｷﾖｳﾃﾂｸ
A351: 8010701011766 | B351: 9293345 | C351: 株式会社 システムハウスアールアンドシー | D351: ｼｽﾃﾑﾊｳｽｱ-ﾙｱﾝ
A352: 7050001005202 | B352: 9255877 | C352: 株式会社 関西ケーズデンキ | D352: ｶﾝｻｲｹ-ｽﾃﾝｷ
A353: 6220005002121 | B353: 9122621 | C353: 北陸 労働金庫 | D353: ﾎｸﾘｸﾛｳﾄｳｷﾝｺ
A354: 7210001004022 | B354: 9143947 | C354: 三谷商事（株） | D354: ﾐﾀﾆｼﾖｳｼ
A355: 9010001064753 | B355: 9209352 | C355: 日本調剤 株式会社 | D355: ﾆﾎﾝﾁﾖｳｻｲ
A356: 1210005000221 | B356: 9142797 | C356: 福井県民生活協同組合 | D356: ﾌｸｲｹﾝﾐﾝｾｲｶﾂ
A357: 3010001025868 | B357: 9190201 | C357: 株式会社 ニチイ学館 | D357: ﾆﾁｲｶﾂｶﾝ
A358: 8130001000053 | B358: 9202111 | C358: 佐川急便 株式会社 | D358: ｻｶﾜｷﾕｳﾋﾝｶﾌ
A359: 8210001003262 | B359: 9002201 | C359: （株）福邦銀行 | D359: ﾌｸﾎｳｷﾝｺｳ
... A378: 7210002013807 | B378: 9063480 | C378: （有）大道プロパン | D378: ﾀｲﾄｳﾌﾛﾊﾝ
A379: 9210002013994 | B379: 9147403 | C379: （有）リ－ブルテラダ | D379: ﾘ-ﾌﾙﾃﾗﾀ
A380: 9210002013920 | B380: 9147535 | C380: （有）􁮞原食品 | D380: ﾏﾂﾊﾗｼﾖｸﾋﾝ
A381: 7210002013658 | B381: 9155422 | C381: （有）伊勢産業 | D381: ｲｾｻﾝｷﾖｳ
A382: 2210002013943 | B382: 9160426 | C382: （有）三国設備 | D382: ﾐｸﾆｾﾂﾋ
A383: 6210002013873 | B383: 9185011 | C383: （有）バンビ | D383: ﾊﾝﾋ
A384: 6210002013700 | B384: 9185143 | C384: （有）オフィスわかさ | D384: ｵﾌｲｽﾜｶｻ
A385: 8210002014242 | B385: 9190279 | C385: （有）カワショウ | D385: ｶﾜｼﾖｳ
A386: 6210002014277 | B386: 9197800 | C386: 清水創建 有限会社 | D386: ｼﾐﾂｿｳｹﾝ
A387: 6210002014310 | B387: 9205675 | C387: 有限会社 光啓商事 | D387: ｺｳｹｲｼﾖｳｼ
A388: 3210001018018 | B388: 9247581 | C388: 株式会社 森長組 | D388: ﾓﾘﾅｶｸﾐ
A389: 8210001018062 | B389: 9301283 | C389: 若狭レッカーサービス 株式会社 | D389: ﾜｶｻﾚﾂｶ-ｻ-ﾋｽ
A390: 7210002014111 | B390: 9274839 | C390: 株式会社 イシヅカ | D390: ｲｼﾂｶ
A391: 1210002013804 | B391: 9111956 | C391: （有）泰幸商事 | D391: ﾀｲｺｳｼﾖｳｼ
... A396: 1210002013795 | B396: 9078673 | C396: （有）せいわ箸店 | D396: ｾｲﾜﾊｼﾃﾝ
A397: 7210001013948 | B397: 9119159 | C397: 株式会社 斉藤経営 | D397: ｻｲﾄｳｹｲｴｲ
A398: 5210001013933 | B398: 9131396 | C398: 株式会社 ファニーアート | D398: ﾌｱﾆ-ｱ-ﾄ
A399: 7210001013956 | B399: 9147497 | C399: （株）志保重 | D399: ｼﾎｼﾕｳ
A400: 3210002013752 | B400: 9155406 | C400: 株式会社 幸池建材 | D400: ｺｳｲｹｹﾝｻｲ
A401: 6210001014212 | B401: 9202544 | C401: （株）Ｂ．Ｐ．Ｆ | D401: ﾋ-ﾋ-ｴﾌ
A402: 2010401093920 | B402: 9233911 | C402: （株）すき􁜏 | D402: ｽｷﾔ
A403: 3140001101540 | B403: 9274413 | C403: 株式会社 丸亀製麺 | D403: ﾏﾙｶﾒｾｲﾒﾝ
A404: 3210001010593 | B404: 9116389 | C404: 若越印刷 株式会社 | D404: ｼﾔｸｴﾂｲﾝｻﾂ
A405: 9210001013995 | B405: 9064206 | C405: 株式会社 直組 | D405: ﾅｵｸﾐ
A406: 8210001014029 | B406: 9108955 | C406: 藤田電機 株式会社 | D406: ﾌｼﾀﾃﾝｷｶﾌｼ
A407: 3210001004348 | B407: 9153314 | C407: ワコ－電機（株） | D407: ﾜｺ-ﾃﾝｷ
A408: 5210001014345 | B408: 9193871 | C408: 株式会社 アシュワ | D408: ｱｼﾕﾜ
... A415: 6020001018422 | B415: 9187031 | C415: ＪＦＥ環境サービス 株式会社 | D415: ｼｴｲｴﾌｲ-ｶﾝｷﾖ
A416: 4010001108754 | B416: 9144005 | C416: ＥＮＥＯＳグローブエナジー（株） | D416: ｴﾈｵｽｸﾛ-ﾌｴﾅ
A417: 7120001077275 | B417: 9190520 | C417: 株式会社 関電アメニックス | D417: ｶﾝﾃﾝｱﾒﾆﾂｸｽ
A418: 4010001032368 | B418: 9227512 | C418: 株式会社 レンタルのニッケン | D418: ﾚﾝﾀﾙﾉﾆﾂｹﾝ
A419: 8011101004344 | B419: 9142487 | C419: 株式会社 ガイア－ト | D419: ｶｲｱ-ﾄ
A420: 7140001024713 | B420: 9233105 | C420: （株）Ｇ－７・オート・サービス | D420: ｼ-ｾﾌﾝｵ-ﾄｻ-
A421: 2180001016265 | B421: 9140301 | C421: ＮＴＴビジネスソリューションズ 株式会社 | D421: ｴﾇﾃｲﾃｲﾋｼﾈｽ
A422: 5010001030412 | B422: 9157468 | C422: 三菱電機ビルソリューションズ（株） | D422: ﾐﾂﾋｼﾃﾝｷﾋﾙ
...
